BEGIN:VCALENDAR
VERSION:2.0
PRODID:-//Hello Ortho - ECPv6.15.17//NONSGML v1.0//EN
CALSCALE:GREGORIAN
METHOD:PUBLISH
X-WR-CALNAME:Hello Ortho
X-ORIGINAL-URL:https://helloortho.com
X-WR-CALDESC:Events for Hello Ortho
REFRESH-INTERVAL;VALUE=DURATION:PT1H
X-Robots-Tag:noindex
X-PUBLISHED-TTL:PT1H
BEGIN:VTIMEZONE
TZID:America/Chicago
BEGIN:DAYLIGHT
TZOFFSETFROM:-0600
TZOFFSETTO:-0500
TZNAME:CDT
DTSTART:20210314T080000
END:DAYLIGHT
BEGIN:STANDARD
TZOFFSETFROM:-0500
TZOFFSETTO:-0600
TZNAME:CST
DTSTART:20211107T070000
END:STANDARD
BEGIN:DAYLIGHT
TZOFFSETFROM:-0600
TZOFFSETTO:-0500
TZNAME:CDT
DTSTART:20220313T080000
END:DAYLIGHT
BEGIN:STANDARD
TZOFFSETFROM:-0500
TZOFFSETTO:-0600
TZNAME:CST
DTSTART:20221106T070000
END:STANDARD
BEGIN:DAYLIGHT
TZOFFSETFROM:-0600
TZOFFSETTO:-0500
TZNAME:CDT
DTSTART:20230312T080000
END:DAYLIGHT
BEGIN:STANDARD
TZOFFSETFROM:-0500
TZOFFSETTO:-0600
TZNAME:CST
DTSTART:20231105T070000
END:STANDARD
END:VTIMEZONE
BEGIN:VEVENT
DTSTART;TZID=America/Chicago:20220930T132000
DTEND;TZID=America/Chicago:20220930T170000
DTSTAMP:20260425T051829
CREATED:20220810T113245Z
LAST-MODIFIED:20220810T114633Z
UID:4426-1664544000-1664557200@helloortho.com
SUMMARY:Movies in the park - ENCANTO
DESCRIPTION:Yountville community park\nConcessions & Food truck available at 6.30 PM.\nThe movie begins at dusk. \nPlease bring low-back lawn chairs and blankets.\nThose with tall chairs will be asked to sit in the back.\n*NO PETS* \n\n 
URL:https://helloortho.com/events/movies-in-the-park-encanto/
LOCATION:Yountville Community Park\, 2900 Lincoln Ave\, Yountville\, Yountville\, CA\, 94599\, United States
CATEGORIES:Updates & Announcements
ATTACH;FMTTYPE=image/png:https://helloortho.com/wp-content/uploads/2022/08/Screenshot-from-2022-08-10-10-48-01.png
END:VEVENT
BEGIN:VEVENT
DTSTART;TZID=America/Chicago:20220907T234500
DTEND;TZID=America/Chicago:20220908T140000
DTSTAMP:20260425T051829
CREATED:20220824T231656Z
LAST-MODIFIED:20220824T232447Z
UID:4449-1662594300-1662645600@helloortho.com
SUMMARY:Calling all Petaluma & Sonoma County Dentists:  You are invited: Spears Study Club
DESCRIPTION:Collaboration + Community + Life Long Learning  \nDear Colleagues and Friends\, \nWe are honored to extend an invite and opportunity for you to participate in a brand new Interdisciplinary Dental Study based in Sonoma County. We know from talking to our colleagues that many of you like us\, and our eager to get back to in-person meetings.  Our vision to create this study club in order to create opportunities to get to know one another on a deeper level and to show our appreciation to those who we work with had been put on hold due to the last 2 years of the pandemic; now we are incredibly excited to bring this vision to life!  This study club will focus around collaboration\, education and building relationships in order to advance and improve coordinated dental and overall health care in our area.  \nThe initial study club meetings and philosophy will be based around the Spear Education Study Club model.  The Hands-on learning in a small group setting has been shown to be a proven way for dentists and dental practices to improve and grow together.  The Spear Study club model has 6 core benefits to those who participate in a study club which include: Growing Practice Profitability\, Improving Clinical Expertise\, Collaborating With Colleagues\, Increasing Case Acceptance\, Building a Professional Network\, and Strengthening Your Team.  \n  \nThe study club will meet 9 times throughout the year\, and will include 8 modules that provide CE credits for participants.   More logistics and details of the study club will be provided at an introductory event which will be on Thursday September 8th at 5:45 pm at Brooks Note Winery and Tasting Room in Petaluma CA.  https://www.brooksnotewinery.com/ \nAs hosts of this Study club we believe in the power of collaboration\, the power of community and of the power of life long learning to impact not just ourselves but our patients and our practices.  We look forward to seeing you for an informative and spirited first meeting!  \nYour study club hosts\,  \nDr. Jordan Lamberton\nOrthodontist\n \nDr. Mahdad Nassiri\nPeriodontist \nDr. Aliraad Moattar\nEndodontist 
URL:https://helloortho.com/events/calling-all-petaluma-sonoma-county-dentists-you-are-invited-spears-study-club/
LOCATION:Brooks Note Winery and Tasting Room in Petaluma CA
CATEGORIES:Updates & Announcements
ATTACH;FMTTYPE=image/jpeg:https://helloortho.com/wp-content/uploads/2022/08/New-Project-1.jpg
END:VEVENT
BEGIN:VEVENT
DTSTART;TZID=America/Chicago:20220812T141500
DTEND;TZID=America/Chicago:20220812T170000
DTSTAMP:20260425T051829
CREATED:20220810T112908Z
LAST-MODIFIED:20220810T113031Z
UID:4422-1660313700-1660323600@helloortho.com
SUMMARY:Movies in the park - SOUL
DESCRIPTION:Yountville community park\nConcessions & Food truck available at 6.30 PM.\nThe movie begins at dusk. \nPlease bring low-back lawn chairs and blankets.\nThose with tall chairs will be asked to sit in the back.\n*NO PETS*
URL:https://helloortho.com/events/movies-in-the-park-soul/
LOCATION:Yountville Community Park\, 2900 Lincoln Ave\, Yountville\, Yountville\, CA\, 94599\, United States
CATEGORIES:Updates & Announcements
ATTACH;FMTTYPE=image/png:https://helloortho.com/wp-content/uploads/2022/08/Screenshot-from-2022-08-10-10-48-01.png
END:VEVENT
BEGIN:VEVENT
DTSTART;TZID=America/Chicago:20220809T020000
DTEND;TZID=America/Chicago:20220809T110000
DTSTAMP:20260425T051829
CREATED:20220809T163544Z
LAST-MODIFIED:20220809T163544Z
UID:4409-1660010400-1660042800@helloortho.com
SUMMARY:Petaluma: Movie in the Park Raffle!
DESCRIPTION:Come Say “Hello” tonight at Lucchesi Park\, Movie begins right after sunset!  We are going to be holding a raffle for a Hello Ortho Toothbrush!!!
URL:https://helloortho.com/events/petaluma-movie-in-the-park-raffle/
CATEGORIES:Updates & Announcements
ATTACH;FMTTYPE=image/jpeg:https://helloortho.com/wp-content/uploads/2020/05/TheaterEvent-invute-2.jpg
END:VEVENT
BEGIN:VEVENT
DTSTART;TZID=America/Chicago:20220729T150000
DTEND;TZID=America/Chicago:20220729T170000
DTSTAMP:20260425T051829
CREATED:20220810T112659Z
LAST-MODIFIED:20220810T112720Z
UID:4419-1659106800-1659114000@helloortho.com
SUMMARY:Movies in the park - LUCA
DESCRIPTION:Yountville community park\nConcessions & Food truck available at 6.30 PM.\nThe movie begins at dusk. \nPlease bring low-back lawn chairs and blankets.\nThose with tall chairs will be asked to sit in the back.\n*NO PETS*
URL:https://helloortho.com/events/movies-in-the-park-luca/
LOCATION:Yountville Community Park\, 2900 Lincoln Ave\, Yountville\, Yountville\, CA\, 94599\, United States
CATEGORIES:Updates & Announcements
ATTACH;FMTTYPE=image/png:https://helloortho.com/wp-content/uploads/2022/08/Screenshot-from-2022-08-10-10-48-01.png
END:VEVENT
BEGIN:VEVENT
DTSTART;TZID=America/Chicago:20220624T150000
DTEND;TZID=America/Chicago:20220624T170000
DTSTAMP:20260425T051829
CREATED:20220810T112357Z
LAST-MODIFIED:20220810T112357Z
UID:4414-1656082800-1656090000@helloortho.com
SUMMARY:Movies in the park - SING 2
DESCRIPTION:Yountville community park\nConcessions & Food truck available at 6.30 PM.\nThe movie begins at dusk. \nPlease bring low-back lawn chairs and blankets.\nThose with tall chairs will be asked to sit in the back.\n*NO PETS*
URL:https://helloortho.com/events/movies-in-the-park-sing-2/
LOCATION:Yountville Community Park\, 2900 Lincoln Ave\, Yountville\, Yountville\, CA\, 94599\, United States
CATEGORIES:Updates & Announcements
ATTACH;FMTTYPE=image/png:https://helloortho.com/wp-content/uploads/2022/08/Screenshot-from-2022-08-10-10-48-01.png
END:VEVENT
END:VCALENDAR